BEGIN:VCALENDAR
VERSION:2.0
PRODID:-//Preserve at Rock Creek - ECPv6.15.20//NONSGML v1.0//EN
CALSCALE:GREGORIAN
METHOD:PUBLISH
X-WR-CALNAME:Preserve at Rock Creek
X-ORIGINAL-URL:https://preserverockcreek.org
X-WR-CALDESC:Events for Preserve at Rock Creek
REFRESH-INTERVAL;VALUE=DURATION:PT1H
X-Robots-Tag:noindex
X-PUBLISHED-TTL:PT1H
BEGIN:VTIMEZONE
TZID:America/New_York
BEGIN:DAYLIGHT
TZOFFSETFROM:-0500
TZOFFSETTO:-0400
TZNAME:EDT
DTSTART:20190310T070000
END:DAYLIGHT
BEGIN:STANDARD
TZOFFSETFROM:-0400
TZOFFSETTO:-0500
TZNAME:EST
DTSTART:20191103T060000
END:STANDARD
BEGIN:DAYLIGHT
TZOFFSETFROM:-0500
TZOFFSETTO:-0400
TZNAME:EDT
DTSTART:20200308T070000
END:DAYLIGHT
BEGIN:STANDARD
TZOFFSETFROM:-0400
TZOFFSETTO:-0500
TZNAME:EST
DTSTART:20201101T060000
END:STANDARD
BEGIN:DAYLIGHT
TZOFFSETFROM:-0500
TZOFFSETTO:-0400
TZNAME:EDT
DTSTART:20210314T070000
END:DAYLIGHT
BEGIN:STANDARD
TZOFFSETFROM:-0400
TZOFFSETTO:-0500
TZNAME:EST
DTSTART:20211107T060000
END:STANDARD
BEGIN:DAYLIGHT
TZOFFSETFROM:-0500
TZOFFSETTO:-0400
TZNAME:EDT
DTSTART:20220313T070000
END:DAYLIGHT
BEGIN:STANDARD
TZOFFSETFROM:-0400
TZOFFSETTO:-0500
TZNAME:EST
DTSTART:20221106T060000
END:STANDARD
END:VTIMEZONE
BEGIN:VEVENT
DTSTART;TZID=America/New_York:20210925T113000
DTEND;TZID=America/New_York:20210925T160000
DTSTAMP:20260420T024446
CREATED:20210613T215149Z
LAST-MODIFIED:20210909T193536Z
UID:2656-1632569400-1632585600@preserverockcreek.org
SUMMARY:Annual Preserve at Rock Creek Community Bar-B-Que & Gathering
DESCRIPTION:21SepCommunityPicnicFlyer
URL:https://preserverockcreek.org/event/annual-preserve-at-rock-creek-community-bar-b-que-gathering/
LOCATION:Preserve Rock Creek – Community Tot Lot\, Harbinger Drive\, Rockville\, 20855\, United States
CATEGORIES:Meetings,Other Events
ORGANIZER;CN="Preserve HOA":MAILTO:president@preserverockcreek.org
END:VEVENT
BEGIN:VEVENT
DTSTART;TZID=America/New_York:20210915T190000
DTEND;TZID=America/New_York:20210915T210000
DTSTAMP:20260420T024446
CREATED:20210706T202520Z
LAST-MODIFIED:20210909T193244Z
UID:2682-1631732400-1631739600@preserverockcreek.org
SUMMARY:2021 September Board of Directors Meeting
DESCRIPTION:PRCHOAMeetingAgendaSept2021v1b
URL:https://preserverockcreek.org/event/2021-september-board-of-directors-meeting/
LOCATION:Virtual Meeting Conference Center\, Zoom virutal conference center\, Derwood\, MD\, 20855\, United States
CATEGORIES:Meetings
ORGANIZER;CN="Preserve HOA":MAILTO:president@preserverockcreek.org
END:VEVENT
BEGIN:VEVENT
DTSTART;TZID=America/New_York:20210913T190000
DTEND;TZID=America/New_York:20210913T210000
DTSTAMP:20260420T024446
CREATED:20210706T202206Z
LAST-MODIFIED:20210706T202206Z
UID:2678-1631559600-1631566800@preserverockcreek.org
SUMMARY:2021 September Covenants Committee Meeting
DESCRIPTION:Meeting to be held virtually via Zoom meeting application \nCheck your email for meeting information or contact PMP directly providing your home address and last name to validate HOA membership in order to receive credentials
URL:https://preserverockcreek.org/event/2021-september-covenants-committee-meeting/
LOCATION:Virtual Meeting Conference Center\, Zoom virutal conference center\, Derwood\, MD\, 20855\, United States
CATEGORIES:Meetings
END:VEVENT
BEGIN:VEVENT
DTSTART;TZID=America/New_York:20210802T190000
DTEND;TZID=America/New_York:20210802T210000
DTSTAMP:20260420T024446
CREATED:20210706T202025Z
LAST-MODIFIED:20210706T202025Z
UID:2676-1627930800-1627938000@preserverockcreek.org
SUMMARY:2021 August Covenants Committee Meeting
DESCRIPTION:Meeting to be held virtually via Zoom meeting application \nCheck your email for meeting information or contact PMP directly providing your home address and last name to validate HOA membership in order to receive credentials
URL:https://preserverockcreek.org/event/2021-august-covenants-committee-meeting/
LOCATION:Virtual Meeting Conference Center\, Zoom virutal conference center\, Derwood\, MD\, 20855\, United States
CATEGORIES:Meetings
ORGANIZER;CN="Preserve HOA":MAILTO:president@preserverockcreek.org
END:VEVENT
BEGIN:VEVENT
DTSTART;TZID=America/New_York:20210712T190000
DTEND;TZID=America/New_York:20210712T210000
DTSTAMP:20260420T024446
CREATED:20201228T221250Z
LAST-MODIFIED:20210709T021356Z
UID:2589-1626116400-1626123600@preserverockcreek.org
SUMMARY:2021 July Covenants Committee Meeting
DESCRIPTION:Meeting to be held virtually via Zoom meeting application \nCheck your email for meeting information or contact PMP directly providing your home address and last name to validate HOA membership in order to receive credentials
URL:https://preserverockcreek.org/event/2021-july-covenants-committee-meeting/
LOCATION:Virtual Meeting Conference Center\, Zoom virutal conference center\, Derwood\, MD\, 20855\, United States
CATEGORIES:Meetings
END:VEVENT
BEGIN:VEVENT
DTSTART;TZID=America/New_York:20210707T190000
DTEND;TZID=America/New_York:20210707T220000
DTSTAMP:20260420T024446
CREATED:20201228T221415Z
LAST-MODIFIED:20210701T174410Z
UID:2591-1625684400-1625695200@preserverockcreek.org
SUMMARY:2021 Annual HOA reconvening & July Board Meeting
DESCRIPTION:PRCHOAMeetingAgendaJuly2021v1d
URL:https://preserverockcreek.org/event/2021-july-board-meeting/
LOCATION:Virtual Meeting Conference Center\, Zoom virutal conference center\, Derwood\, MD\, 20855\, United States
CATEGORIES:Meetings
ORGANIZER;CN="Preserve HOA":MAILTO:president@preserverockcreek.org
END:VEVENT
BEGIN:VEVENT
DTSTART;TZID=America/New_York:20210609T190000
DTEND;TZID=America/New_York:20210609T215000
DTSTAMP:20260420T024446
CREATED:20210304T164348Z
LAST-MODIFIED:20210517T214024Z
UID:2621-1623265200-1623275400@preserverockcreek.org
SUMMARY:2021 Annual Homeowners Meeting - June HOA Board Meeting
DESCRIPTION:PRCHOAMeetingAgendaJune2021v1b
URL:https://preserverockcreek.org/event/annual-homeowners-meeting-2021/
LOCATION:Virtual Meeting Conference Center\, Zoom virutal conference center\, Derwood\, MD\, 20855\, United States
CATEGORIES:Meetings
ORGANIZER;CN="Preserve HOA":MAILTO:president@preserverockcreek.org
END:VEVENT
BEGIN:VEVENT
DTSTART;TZID=America/New_York:20210607T190000
DTEND;TZID=America/New_York:20210607T210000
DTSTAMP:20260420T024446
CREATED:20201228T221145Z
LAST-MODIFIED:20201228T221145Z
UID:2587-1623092400-1623099600@preserverockcreek.org
SUMMARY:2021 June Covenants Committee Meeting
DESCRIPTION:Meeting to be held virtually via Zoom meeting application \nCheck your email for meeting information or contact PMP directly providing your home address and last name to validate HOA membership in order to receive credentials
URL:https://preserverockcreek.org/event/2021-june-covenants-committee-meeting/
LOCATION:Virtual Meeting Conference Center\, Zoom virutal conference center\, Derwood\, MD\, 20855\, United States
CATEGORIES:Meetings
END:VEVENT
BEGIN:VEVENT
DTSTART;TZID=America/New_York:20210505T190000
DTEND;TZID=America/New_York:20210505T210000
DTSTAMP:20260420T024446
CREATED:20201228T220900Z
LAST-MODIFIED:20210430T223400Z
UID:2583-1620241200-1620248400@preserverockcreek.org
SUMMARY:2021 May Board Meeting
DESCRIPTION:PRCHOAMeetingAgendaMay2021v1e
URL:https://preserverockcreek.org/event/2021-may-board-meeting/
LOCATION:Virtual Meeting Conference Center\, Zoom virutal conference center\, Derwood\, MD\, 20855\, United States
CATEGORIES:Meetings
END:VEVENT
BEGIN:VEVENT
DTSTART;TZID=America/New_York:20210503T190000
DTEND;TZID=America/New_York:20210503T210000
DTSTAMP:20260420T024446
CREATED:20201228T221033Z
LAST-MODIFIED:20201228T221033Z
UID:2585-1620068400-1620075600@preserverockcreek.org
SUMMARY:2021 May Covenants Committee Meeting
DESCRIPTION:Meeting to be held virtually via Zoom meeting application \nCheck your email for meeting information or contact PMP directly providing your home address and last name to validate HOA membership in order to receive credentials
URL:https://preserverockcreek.org/event/2021-may-covenants-committee-meeting/
LOCATION:Virtual Meeting Conference Center\, Zoom virutal conference center\, Derwood\, MD\, 20855\, United States
CATEGORIES:Meetings
ORGANIZER;CN="Preserve HOA":MAILTO:president@preserverockcreek.org
END:VEVENT
BEGIN:VEVENT
DTSTART;TZID=America/New_York:20210405T190000
DTEND;TZID=America/New_York:20210405T210000
DTSTAMP:20260420T024446
CREATED:20201228T220452Z
LAST-MODIFIED:20201228T220452Z
UID:2577-1617649200-1617656400@preserverockcreek.org
SUMMARY:2021 April Covenants Committee Meeting
DESCRIPTION:Meeting to be held virtually via Zoom meeting application \nCheck your email for meeting information or contact PMP directly providing your home address and last name to validate HOA membership in order to receive credentials
URL:https://preserverockcreek.org/event/2021-april-covenants-committee-meeting/
LOCATION:Virtual Meeting Conference Center\, Zoom virutal conference center\, Derwood\, MD\, 20855\, United States
CATEGORIES:Meetings
ORGANIZER;CN="Preserve HOA":MAILTO:president@preserverockcreek.org
END:VEVENT
BEGIN:VEVENT
DTSTART;TZID=America/New_York:20210303T190000
DTEND;TZID=America/New_York:20210303T210000
DTSTAMP:20260420T024446
CREATED:20201228T220759Z
LAST-MODIFIED:20210225T230654Z
UID:2581-1614798000-1614805200@preserverockcreek.org
SUMMARY:2021 March Board Meeting
DESCRIPTION:PRCHOAMeetingAgendaMar2021v1c
URL:https://preserverockcreek.org/event/2021-march-board-meeting/
LOCATION:Virtual Meeting Conference Center\, Zoom virutal conference center\, Derwood\, MD\, 20855\, United States
CATEGORIES:Meetings
END:VEVENT
BEGIN:VEVENT
DTSTART;TZID=America/New_York:20210301T190000
DTEND;TZID=America/New_York:20210301T210000
DTSTAMP:20260420T024446
CREATED:20201228T220350Z
LAST-MODIFIED:20201228T220350Z
UID:2575-1614625200-1614632400@preserverockcreek.org
SUMMARY:2021 March Covenants Committee Meeting
DESCRIPTION:Meeting to be held virtually via Zoom meeting application \nCheck your email for meeting information or contact PMP directly providing your home address and last name to validate HOA membership in order to receive credentials
URL:https://preserverockcreek.org/event/2021-march-covenants-committee-meeting/
LOCATION:Virtual Meeting Conference Center\, Zoom virutal conference center\, Derwood\, MD\, 20855\, United States
CATEGORIES:Meetings
ORGANIZER;CN="Preserve HOA":MAILTO:president@preserverockcreek.org
END:VEVENT
BEGIN:VEVENT
DTSTART;TZID=America/New_York:20210201T190000
DTEND;TZID=America/New_York:20210201T210000
DTSTAMP:20260420T024446
CREATED:20201228T220236Z
LAST-MODIFIED:20201228T220236Z
UID:2573-1612206000-1612213200@preserverockcreek.org
SUMMARY:2021 February Covenants Committee Meeting
DESCRIPTION:Meeting to be held virtually via Zoom meeting application \nCheck your email for meeting information or contact PMP directly providing your home address and last name to validate HOA membership in order to receive credentials
URL:https://preserverockcreek.org/event/2021-february-covenants-committee-meeting/
LOCATION:Virtual Meeting Conference Center\, Zoom virutal conference center\, Derwood\, MD\, 20855\, United States
CATEGORIES:Meetings
ORGANIZER;CN="Preserve HOA":MAILTO:president@preserverockcreek.org
END:VEVENT
BEGIN:VEVENT
DTSTART;TZID=America/New_York:20210106T190000
DTEND;TZID=America/New_York:20210106T210000
DTSTAMP:20260420T024446
CREATED:20201228T220649Z
LAST-MODIFIED:20210104T043139Z
UID:2579-1609959600-1609966800@preserverockcreek.org
SUMMARY:2021 January Board Meeting
DESCRIPTION:PRCHOAMeetingAgendaJan2021v1c
URL:https://preserverockcreek.org/event/2021-january-board-meeting/
LOCATION:Virtual Meeting Conference Center\, Zoom virutal conference center\, Derwood\, MD\, 20855\, United States
CATEGORIES:Meetings
ORGANIZER;CN="Preserve HOA":MAILTO:president@preserverockcreek.org
END:VEVENT
BEGIN:VEVENT
DTSTART;TZID=America/New_York:20210104T190000
DTEND;TZID=America/New_York:20210104T210000
DTSTAMP:20260420T024446
CREATED:20201228T220050Z
LAST-MODIFIED:20201228T220050Z
UID:2571-1609786800-1609794000@preserverockcreek.org
SUMMARY:2021 January Covenants Committee Meeting
DESCRIPTION:Meeting to be held virtually via Zoom meeting application \nCheck your email for meeting information or contact PMP directly providing your home address and last name to validate HOA membership in order to receive credentials
URL:https://preserverockcreek.org/event/2021-january-covenants-committee-meeting/
LOCATION:Virtual Meeting Conference Center\, Zoom virutal conference center\, Derwood\, MD\, 20855\, United States
CATEGORIES:Meetings
ORGANIZER;CN="Preserve HOA":MAILTO:president@preserverockcreek.org
END:VEVENT
BEGIN:VEVENT
DTSTART;TZID=America/New_York:20201207T190000
DTEND;TZID=America/New_York:20201207T210000
DTSTAMP:20260420T024446
CREATED:20191229T194236Z
LAST-MODIFIED:20201129T192238Z
UID:2464-1607367600-1607374800@preserverockcreek.org
SUMMARY:2020 December Board Meeting
DESCRIPTION:PRCHOAMeetingAgendaDec2020v1b
URL:https://preserverockcreek.org/event/2020-december-board-meeting/
LOCATION:Virtual Meeting Conference Center\, Zoom virutal conference center\, Derwood\, MD\, 20855\, United States
CATEGORIES:Meetings
END:VEVENT
BEGIN:VEVENT
DTSTART;TZID=America/New_York:20201201T190000
DTEND;TZID=America/New_York:20201201T210000
DTSTAMP:20260420T024446
CREATED:20191229T200505Z
LAST-MODIFIED:20200922T171054Z
UID:2487-1606849200-1606856400@preserverockcreek.org
SUMMARY:2020 December Covenants Committee Meeting
DESCRIPTION:Location: Virtual Meeting Room via Zoom
URL:https://preserverockcreek.org/event/2020-december-covenants-committee-meeting/
LOCATION:Virtual Meeting Conference Center\, Zoom virutal conference center\, Derwood\, MD\, 20855\, United States
CATEGORIES:Meetings
ORGANIZER;CN="Preserve HOA":MAILTO:president@preserverockcreek.org
END:VEVENT
BEGIN:VEVENT
DTSTART;TZID=America/New_York:20201103T190000
DTEND;TZID=America/New_York:20201103T210000
DTSTAMP:20260420T024446
CREATED:20191229T200347Z
LAST-MODIFIED:20200922T171128Z
UID:2485-1604430000-1604437200@preserverockcreek.org
SUMMARY:2020 November Covenants Committee Meeting
DESCRIPTION:Location: Virtual Meeting Room via Zoom
URL:https://preserverockcreek.org/event/2020-november-covenants-committee-meeting/
LOCATION:Virtual Meeting Conference Center\, Zoom virutal conference center\, Derwood\, MD\, 20855\, United States
CATEGORIES:Meetings
ORGANIZER;CN="Preserve HOA":MAILTO:president@preserverockcreek.org
END:VEVENT
BEGIN:VEVENT
DTSTART;TZID=America/New_York:20201031T150000
DTEND;TZID=America/New_York:20201031T190000
DTSTAMP:20260420T024446
CREATED:20201014T145835Z
LAST-MODIFIED:20201014T182819Z
UID:2555-1604156400-1604170800@preserverockcreek.org
SUMMARY:Pumpkin Scavenger Hunt
DESCRIPTION:20PRCHalloweenFlyer
URL:https://preserverockcreek.org/event/pumpkin-scavenger-hunt/
LOCATION:The Preserve at Rock Creek\, Heartwood Drive\, Rockville\, MD\, 20855\, United States
CATEGORIES:Other Events
ORGANIZER;CN="Preserve HOA":MAILTO:president@preserverockcreek.org
END:VEVENT
BEGIN:VEVENT
DTSTART;TZID=America/New_York:20201006T190000
DTEND;TZID=America/New_York:20201006T210000
DTSTAMP:20260420T024446
CREATED:20191229T200057Z
LAST-MODIFIED:20200922T171202Z
UID:2483-1602010800-1602018000@preserverockcreek.org
SUMMARY:2020 October Covenants Committee Meeting
DESCRIPTION:Location: Virtual Meeting Room via Zoom
URL:https://preserverockcreek.org/event/2020-october-covenants-committee-meeting/
LOCATION:Virtual Meeting Conference Center\, Zoom virutal conference center\, Derwood\, MD\, 20855\, United States
CATEGORIES:Meetings
ORGANIZER;CN="Preserve HOA":MAILTO:president@preserverockcreek.org
END:VEVENT
BEGIN:VEVENT
DTSTART;TZID=America/New_York:20201005T190000
DTEND;TZID=America/New_York:20201005T210000
DTSTAMP:20260420T024446
CREATED:20191229T194123Z
LAST-MODIFIED:20201014T163902Z
UID:2462-1601924400-1601931600@preserverockcreek.org
SUMMARY:2020 October Board Meeting
DESCRIPTION:PRCHOAMeetingAgendaOct2020
URL:https://preserverockcreek.org/event/2020-october-board-meeting/
LOCATION:Preserve Rock Creek – Community Tot Lot\, Harbinger Drive\, Rockville\, 20855\, United States
CATEGORIES:Meetings
ORGANIZER;CN="Preserve HOA":MAILTO:president@preserverockcreek.org
END:VEVENT
BEGIN:VEVENT
DTSTART;TZID=America/New_York:20200914T190000
DTEND;TZID=America/New_York:20200914T210000
DTSTAMP:20260420T024446
CREATED:20200602T163242Z
LAST-MODIFIED:20200830T200320Z
UID:2517-1600110000-1600117200@preserverockcreek.org
SUMMARY:2020 HOA Annual Community Meeting (reconvene) & September Board Meeting
DESCRIPTION:PRCHOAMeetingAgendaSep2020
URL:https://preserverockcreek.org/event/2020-hoa-annual-community-meeting-reconvene-september-board-meeting/
LOCATION:Virtual Meeting Conference Center\, Zoom virutal conference center\, Derwood\, MD\, 20855\, United States
CATEGORIES:Meetings
ORGANIZER;CN="Preserve HOA":MAILTO:president@preserverockcreek.org
END:VEVENT
END:VCALENDAR