BEGIN:VCALENDAR
VERSION:2.0
PRODID:-//Preserve at Rock Creek - ECPv6.15.20//NONSGML v1.0//EN
CALSCALE:GREGORIAN
METHOD:PUBLISH
X-WR-CALNAME:Preserve at Rock Creek
X-ORIGINAL-URL:https://preserverockcreek.org
X-WR-CALDESC:Events for Preserve at Rock Creek
REFRESH-INTERVAL;VALUE=DURATION:PT1H
X-Robots-Tag:noindex
X-PUBLISHED-TTL:PT1H
BEGIN:VTIMEZONE
TZID:America/New_York
BEGIN:DAYLIGHT
TZOFFSETFROM:-0500
TZOFFSETTO:-0400
TZNAME:EDT
DTSTART:20200308T070000
END:DAYLIGHT
BEGIN:STANDARD
TZOFFSETFROM:-0400
TZOFFSETTO:-0500
TZNAME:EST
DTSTART:20201101T060000
END:STANDARD
BEGIN:DAYLIGHT
TZOFFSETFROM:-0500
TZOFFSETTO:-0400
TZNAME:EDT
DTSTART:20210314T070000
END:DAYLIGHT
BEGIN:STANDARD
TZOFFSETFROM:-0400
TZOFFSETTO:-0500
TZNAME:EST
DTSTART:20211107T060000
END:STANDARD
BEGIN:DAYLIGHT
TZOFFSETFROM:-0500
TZOFFSETTO:-0400
TZNAME:EDT
DTSTART:20220313T070000
END:DAYLIGHT
BEGIN:STANDARD
TZOFFSETFROM:-0400
TZOFFSETTO:-0500
TZNAME:EST
DTSTART:20221106T060000
END:STANDARD
BEGIN:DAYLIGHT
TZOFFSETFROM:-0500
TZOFFSETTO:-0400
TZNAME:EDT
DTSTART:20230312T070000
END:DAYLIGHT
BEGIN:STANDARD
TZOFFSETFROM:-0400
TZOFFSETTO:-0500
TZNAME:EST
DTSTART:20231105T060000
END:STANDARD
END:VTIMEZONE
BEGIN:VEVENT
DTSTART;TZID=America/New_York:20220915T190000
DTEND;TZID=America/New_York:20220915T210000
DTSTAMP:20260419T234751
CREATED:20220914T220802Z
LAST-MODIFIED:20220914T225930Z
UID:2800-1663268400-1663275600@preserverockcreek.org
SUMMARY:2022 September Board of Directors Meeting
DESCRIPTION:9.15.2022 Meeting Agenda
URL:https://preserverockcreek.org/event/2022-september-board-of-directors-meeting/
LOCATION:Virtual Meeting Conference Center\, Zoom virutal conference center\, Derwood\, MD\, 20855\, United States
CATEGORIES:Meetings
ORGANIZER;CN="Preserve HOA":MAILTO:president@preserverockcreek.org
END:VEVENT
BEGIN:VEVENT
DTSTART;TZID=America/New_York:20220910T120000
DTEND;TZID=America/New_York:20220910T160000
DTSTAMP:20260419T234751
CREATED:20220902T013316Z
LAST-MODIFIED:20220902T014607Z
UID:2793-1662811200-1662825600@preserverockcreek.org
SUMMARY:Preserve Rock Creek Annual HOA Picnic
DESCRIPTION:
URL:https://preserverockcreek.org/event/preserve-rock-creek-annual-hoa-picnic/
LOCATION:Preserve Rock Creek – Community Tot Lot\, Harbinger Drive\, Rockville\, 20855\, United States
CATEGORIES:Meetings,Other Events
ORGANIZER;CN="Preserve HOA":MAILTO:president@preserverockcreek.org
END:VEVENT
BEGIN:VEVENT
DTSTART;TZID=America/New_York:20220713T190000
DTEND;TZID=America/New_York:20220713T210000
DTSTAMP:20260419T234751
CREATED:20211219T184033Z
LAST-MODIFIED:20211219T184033Z
UID:2740-1657738800-1657746000@preserverockcreek.org
SUMMARY:2022 July Board of Directors Meeting
DESCRIPTION:Meeting to be held electronically via Zoom\, please check your inbox for meeting details\, our secure Facebook site\, or reach out to PMP.
URL:https://preserverockcreek.org/event/2022-july-board-of-directors-meeting/
LOCATION:Virtual Meeting Conference Center\, Zoom virutal conference center\, Derwood\, MD\, 20855\, United States
CATEGORIES:Meetings
ORGANIZER;CN="Preserve HOA":MAILTO:president@preserverockcreek.org
END:VEVENT
BEGIN:VEVENT
DTSTART;TZID=America/New_York:20220711T190000
DTEND;TZID=America/New_York:20220711T210000
DTSTAMP:20260419T234751
CREATED:20211219T183922Z
LAST-MODIFIED:20220106T210310Z
UID:2738-1657566000-1657573200@preserverockcreek.org
SUMMARY:2022 July Covenants Committee Meeting
DESCRIPTION:Meeting to be held electronically via Zoom\, please check your inbox for meeting details\, our secure Facebook site\, or reach out to PMP.
URL:https://preserverockcreek.org/event/2022-july-covenants-committee-meeting/
LOCATION:Virtual Meeting Conference Center\, Zoom virutal conference center\, Derwood\, MD\, 20855\, United States
CATEGORIES:Meetings
END:VEVENT
BEGIN:VEVENT
DTSTART;TZID=America/New_York:20220608T190000
DTEND;TZID=America/New_York:20220608T210000
DTSTAMP:20260419T234751
CREATED:20220106T210525Z
LAST-MODIFIED:20220523T172540Z
UID:2748-1654714800-1654722000@preserverockcreek.org
SUMMARY:2022 Annual Association Homeowners Meeting
DESCRIPTION:PRCHOAMeetingAgendaJune2022v1a
URL:https://preserverockcreek.org/event/2022-annual-association-homeowners-meeting/
LOCATION:Virtual Meeting Conference Center\, Zoom virutal conference center\, Derwood\, MD\, 20855\, United States
CATEGORIES:Meetings
ORGANIZER;CN="Preserve HOA":MAILTO:president@preserverockcreek.org
END:VEVENT
BEGIN:VEVENT
DTSTART;TZID=America/New_York:20220606T190000
DTEND;TZID=America/New_York:20220606T210000
DTSTAMP:20260419T234751
CREATED:20211219T183753Z
LAST-MODIFIED:20211219T183753Z
UID:2736-1654542000-1654549200@preserverockcreek.org
SUMMARY:2022 June Covenants Committee Meeting
DESCRIPTION:Meeting to be held electronically via Zoom\, please check your inbox for meeting details\, our secure Facebook site\, or reach out to PMP.
URL:https://preserverockcreek.org/event/2022-june-covenants-committee-meeting/
LOCATION:Virtual Meeting Conference Center\, Zoom virutal conference center\, Derwood\, MD\, 20855\, United States
CATEGORIES:Meetings
ORGANIZER;CN="Preserve HOA":MAILTO:president@preserverockcreek.org
END:VEVENT
BEGIN:VEVENT
DTSTART;TZID=America/New_York:20220504T190000
DTEND;TZID=America/New_York:20220504T210000
DTSTAMP:20260419T234751
CREATED:20211219T183146Z
LAST-MODIFIED:20220413T151245Z
UID:2734-1651690800-1651698000@preserverockcreek.org
SUMMARY:2022 May Board of Directors Meeting
DESCRIPTION:PRCHOAMeetingAgendaMay042022-v1c
URL:https://preserverockcreek.org/event/2022-may-board-of-directors-meeting/
LOCATION:Virtual Meeting Conference Center\, Zoom virutal conference center\, Derwood\, MD\, 20855\, United States
CATEGORIES:Meetings
ORGANIZER;CN="Preserve HOA":MAILTO:president@preserverockcreek.org
END:VEVENT
BEGIN:VEVENT
DTSTART;TZID=America/New_York:20220502T190000
DTEND;TZID=America/New_York:20220502T210000
DTSTAMP:20260419T234751
CREATED:20211219T182838Z
LAST-MODIFIED:20211219T182838Z
UID:2729-1651518000-1651525200@preserverockcreek.org
SUMMARY:2022 May Covenants Committee Meeting
DESCRIPTION:Meeting to be held electronically via Zoom\, please check your inbox for meeting details\, our secure Facebook site\, or reach out to PMP.
URL:https://preserverockcreek.org/event/2022-may-covenants-committee-meeting/
LOCATION:Virtual Meeting Conference Center\, Zoom virutal conference center\, Derwood\, MD\, 20855\, United States
CATEGORIES:Meetings
ORGANIZER;CN="Preserve HOA":MAILTO:president@preserverockcreek.org
END:VEVENT
BEGIN:VEVENT
DTSTART;TZID=America/New_York:20220406T150000
DTEND;TZID=America/New_York:20220406T170000
DTSTAMP:20260419T234751
CREATED:20220319T014853Z
LAST-MODIFIED:20220403T190502Z
UID:2771-1649257200-1649264400@preserverockcreek.org
SUMMARY:Special Community Board Meeting - Trash Collection Services
DESCRIPTION:PRCHOAMeetingAgendaApr04062022-v1a
URL:https://preserverockcreek.org/event/special-community-board-meeting-trash-collection-services/
LOCATION:Virtual Meeting Conference Center\, Zoom virutal conference center\, Derwood\, MD\, 20855\, United States
CATEGORIES:Meetings
ORGANIZER;CN="Preserve HOA":MAILTO:president@preserverockcreek.org
END:VEVENT
BEGIN:VEVENT
DTSTART;TZID=America/New_York:20220404T190000
DTEND;TZID=America/New_York:20220404T210000
DTSTAMP:20260419T234751
CREATED:20211219T182737Z
LAST-MODIFIED:20211219T182737Z
UID:2727-1649098800-1649106000@preserverockcreek.org
SUMMARY:2022 April Covenants Committee Meeting
DESCRIPTION:Meeting to be held electronically via Zoom\, please check your inbox for meeting details\, our secure Facebook site\, or reach out to PMP.
URL:https://preserverockcreek.org/event/2022-april-covenants-committee-meeting/
LOCATION:Virtual Meeting Conference Center\, Zoom virutal conference center\, Derwood\, MD\, 20855\, United States
CATEGORIES:Meetings
ORGANIZER;CN="Preserve HOA":MAILTO:president@preserverockcreek.org
END:VEVENT
BEGIN:VEVENT
DTSTART;TZID=America/New_York:20220309T190000
DTEND;TZID=America/New_York:20220309T210000
DTSTAMP:20260419T234751
CREATED:20211219T183041Z
LAST-MODIFIED:20220129T201438Z
UID:2732-1646852400-1646859600@preserverockcreek.org
SUMMARY:2022 March Board of Directors Meeting
DESCRIPTION:PRCHOAMeetingAgendaMar092022-v1c
URL:https://preserverockcreek.org/event/2022-march-board-of-directors-meeting/
LOCATION:Virtual Meeting Conference Center\, Zoom virutal conference center\, Derwood\, MD\, 20855\, United States
CATEGORIES:Meetings
ORGANIZER;CN="Preserve HOA":MAILTO:president@preserverockcreek.org
END:VEVENT
BEGIN:VEVENT
DTSTART;TZID=America/New_York:20220307T190000
DTEND;TZID=America/New_York:20220307T210000
DTSTAMP:20260419T234751
CREATED:20211219T182628Z
LAST-MODIFIED:20220106T205923Z
UID:2725-1646679600-1646686800@preserverockcreek.org
SUMMARY:2022 March Covenants Committee Meeting
DESCRIPTION:Meeting to be held electronically via Zoom\, please check your inbox for meeting details\, our secure Facebook site\, or reach out to PMP.
URL:https://preserverockcreek.org/event/2022-march-covenants-committee-meeting/
LOCATION:Virtual Meeting Conference Center\, Zoom virutal conference center\, Derwood\, MD\, 20855\, United States
CATEGORIES:Meetings
ORGANIZER;CN="Preserve HOA":MAILTO:president@preserverockcreek.org
END:VEVENT
BEGIN:VEVENT
DTSTART;TZID=America/New_York:20220207T190000
DTEND;TZID=America/New_York:20220207T210000
DTSTAMP:20260419T234751
CREATED:20211219T182514Z
LAST-MODIFIED:20220106T210159Z
UID:2723-1644260400-1644267600@preserverockcreek.org
SUMMARY:2022 February Covenants Committee Meeting
DESCRIPTION:Meeting to be held electronically via Zoom\, please check your inbox for meeting details\, our secure Facebook site\, or reach out to PMP.
URL:https://preserverockcreek.org/event/2022-february-covenants-committee-meeting/
LOCATION:Virtual Meeting Conference Center\, Zoom virutal conference center\, Derwood\, MD\, 20855\, United States
CATEGORIES:Meetings
ORGANIZER;CN="Preserve HOA":MAILTO:president@preserverockcreek.org
END:VEVENT
BEGIN:VEVENT
DTSTART;TZID=America/New_York:20220105T190000
DTEND;TZID=America/New_York:20220105T210000
DTSTAMP:20260419T234751
CREATED:20211219T182257Z
LAST-MODIFIED:20211219T185348Z
UID:2721-1641409200-1641416400@preserverockcreek.org
SUMMARY:2022 January Board of Directors Meeting
DESCRIPTION:PRCHOAMeetingAgendaJan321
URL:https://preserverockcreek.org/event/2022-january-board-of-directors-meeting/
LOCATION:Virtual Meeting Conference Center\, Zoom virutal conference center\, Derwood\, MD\, 20855\, United States
CATEGORIES:Meetings
ORGANIZER;CN="Preserve HOA":MAILTO:president@preserverockcreek.org
END:VEVENT
BEGIN:VEVENT
DTSTART;TZID=America/New_York:20220103T190000
DTEND;TZID=America/New_York:20220103T210000
DTSTAMP:20260419T234751
CREATED:20211219T182050Z
LAST-MODIFIED:20211219T182050Z
UID:2717-1641236400-1641243600@preserverockcreek.org
SUMMARY:2022 January Covenants Committee Meeting
DESCRIPTION:Meeting to be held electronically via Zoom\, please check your inbox for meeting details\, our secure Facebook site\, or reach out to PMP.
URL:https://preserverockcreek.org/event/2022-january-covenants-committee-meeting/
LOCATION:Virtual Meeting Conference Center\, Zoom virutal conference center\, Derwood\, MD\, 20855\, United States
CATEGORIES:Meetings
ORGANIZER;CN="Preserve HOA":MAILTO:president@preserverockcreek.org
END:VEVENT
BEGIN:VEVENT
DTSTART;TZID=America/New_York:20211206T190000
DTEND;TZID=America/New_York:20211206T210000
DTSTAMP:20260419T234751
CREATED:20210706T202846Z
LAST-MODIFIED:20210706T202846Z
UID:2688-1638817200-1638824400@preserverockcreek.org
SUMMARY:2021 December Covenants Committee Meeting
DESCRIPTION:Meeting to be held virtually via Zoom meeting application \nCheck your email for meeting information or contact PMP directly providing your home address and last name to validate HOA membership in order to receive credentials
URL:https://preserverockcreek.org/event/2021-december-covenants-committee-meeting/
LOCATION:Virtual Meeting Conference Center\, Zoom virutal conference center\, Derwood\, MD\, 20855\, United States
CATEGORIES:Meetings
ORGANIZER;CN="Preserve HOA":MAILTO:president@preserverockcreek.org
END:VEVENT
BEGIN:VEVENT
DTSTART;TZID=America/New_York:20211103T190000
DTEND;TZID=America/New_York:20211103T210000
DTSTAMP:20260419T234751
CREATED:20210706T202622Z
LAST-MODIFIED:20211018T185245Z
UID:2684-1635966000-1635973200@preserverockcreek.org
SUMMARY:2021 November Board of Directors Meeting
DESCRIPTION:PRCHOAMeetingAgendaNov1a
URL:https://preserverockcreek.org/event/2021-november-board-of-directors-meeting/
LOCATION:Virtual Meeting Conference Center\, Zoom virutal conference center\, Derwood\, MD\, 20855\, United States
CATEGORIES:Meetings
END:VEVENT
BEGIN:VEVENT
DTSTART;TZID=America/New_York:20211101T190000
DTEND;TZID=America/New_York:20211101T210000
DTSTAMP:20260419T234751
CREATED:20210706T202753Z
LAST-MODIFIED:20210706T202753Z
UID:2686-1635793200-1635800400@preserverockcreek.org
SUMMARY:2021 November Covenants Committee Meeting
DESCRIPTION:Meeting to be held virtually via Zoom meeting application \nCheck your email for meeting information or contact PMP directly providing your home address and last name to validate HOA membership in order to receive credentials
URL:https://preserverockcreek.org/event/2021-november-covenants-committee-meeting/
LOCATION:Virtual Meeting Conference Center\, Zoom virutal conference center\, Derwood\, MD\, 20855\, United States
CATEGORIES:Meetings
ORGANIZER;CN="Preserve HOA":MAILTO:president@preserverockcreek.org
END:VEVENT
BEGIN:VEVENT
DTSTART;TZID=America/New_York:20211031T173000
DTEND;TZID=America/New_York:20211031T220000
DTSTAMP:20260419T234751
CREATED:20211018T182911Z
LAST-MODIFIED:20211018T185303Z
UID:2701-1635701400-1635717600@preserverockcreek.org
SUMMARY:Halloween in the Preserve
DESCRIPTION:Halloween will be recognized on Sunday\, October 31st. \nHomeowners that are willing to participate in trick or treating\, please have your porch light on or decorations lighted.
URL:https://preserverockcreek.org/event/halloween-in-the-preserve/
LOCATION:Preserve Rock Creek – Community Tot Lot\, Harbinger Drive\, Rockville\, 20855\, United States
CATEGORIES:Meetings,Other Events
ATTACH;FMTTYPE=image/png:https://preserverockcreek.org/wp-content/uploads/2021/10/HalloweenPumpkinsTreesHouse.png
ORGANIZER;CN="Preserve HOA":MAILTO:president@preserverockcreek.org
END:VEVENT
BEGIN:VEVENT
DTSTART;TZID=America/New_York:20211004T190000
DTEND;TZID=America/New_York:20211004T210000
DTSTAMP:20260419T234751
CREATED:20210706T202311Z
LAST-MODIFIED:20210706T202311Z
UID:2680-1633374000-1633381200@preserverockcreek.org
SUMMARY:2021 October Covenants Committee Meeting
DESCRIPTION:Meeting to be held virtually via Zoom meeting application \nCheck your email for meeting information or contact PMP directly providing your home address and last name to validate HOA membership in order to receive credentials
URL:https://preserverockcreek.org/event/2021-october-covenants-committee-meeting/
LOCATION:MD
CATEGORIES:Meetings
END:VEVENT
BEGIN:VEVENT
DTSTART;TZID=America/New_York:20210925T113000
DTEND;TZID=America/New_York:20210925T160000
DTSTAMP:20260419T234751
CREATED:20210613T215149Z
LAST-MODIFIED:20210909T193536Z
UID:2656-1632569400-1632585600@preserverockcreek.org
SUMMARY:Annual Preserve at Rock Creek Community Bar-B-Que & Gathering
DESCRIPTION:21SepCommunityPicnicFlyer
URL:https://preserverockcreek.org/event/annual-preserve-at-rock-creek-community-bar-b-que-gathering/
LOCATION:Preserve Rock Creek – Community Tot Lot\, Harbinger Drive\, Rockville\, 20855\, United States
CATEGORIES:Meetings,Other Events
ORGANIZER;CN="Preserve HOA":MAILTO:president@preserverockcreek.org
END:VEVENT
BEGIN:VEVENT
DTSTART;TZID=America/New_York:20210915T190000
DTEND;TZID=America/New_York:20210915T210000
DTSTAMP:20260419T234751
CREATED:20210706T202520Z
LAST-MODIFIED:20210909T193244Z
UID:2682-1631732400-1631739600@preserverockcreek.org
SUMMARY:2021 September Board of Directors Meeting
DESCRIPTION:PRCHOAMeetingAgendaSept2021v1b
URL:https://preserverockcreek.org/event/2021-september-board-of-directors-meeting/
LOCATION:Virtual Meeting Conference Center\, Zoom virutal conference center\, Derwood\, MD\, 20855\, United States
CATEGORIES:Meetings
ORGANIZER;CN="Preserve HOA":MAILTO:president@preserverockcreek.org
END:VEVENT
BEGIN:VEVENT
DTSTART;TZID=America/New_York:20210913T190000
DTEND;TZID=America/New_York:20210913T210000
DTSTAMP:20260419T234751
CREATED:20210706T202206Z
LAST-MODIFIED:20210706T202206Z
UID:2678-1631559600-1631566800@preserverockcreek.org
SUMMARY:2021 September Covenants Committee Meeting
DESCRIPTION:Meeting to be held virtually via Zoom meeting application \nCheck your email for meeting information or contact PMP directly providing your home address and last name to validate HOA membership in order to receive credentials
URL:https://preserverockcreek.org/event/2021-september-covenants-committee-meeting/
LOCATION:Virtual Meeting Conference Center\, Zoom virutal conference center\, Derwood\, MD\, 20855\, United States
CATEGORIES:Meetings
END:VEVENT
BEGIN:VEVENT
DTSTART;TZID=America/New_York:20210802T190000
DTEND;TZID=America/New_York:20210802T210000
DTSTAMP:20260419T234751
CREATED:20210706T202025Z
LAST-MODIFIED:20210706T202025Z
UID:2676-1627930800-1627938000@preserverockcreek.org
SUMMARY:2021 August Covenants Committee Meeting
DESCRIPTION:Meeting to be held virtually via Zoom meeting application \nCheck your email for meeting information or contact PMP directly providing your home address and last name to validate HOA membership in order to receive credentials
URL:https://preserverockcreek.org/event/2021-august-covenants-committee-meeting/
LOCATION:Virtual Meeting Conference Center\, Zoom virutal conference center\, Derwood\, MD\, 20855\, United States
CATEGORIES:Meetings
ORGANIZER;CN="Preserve HOA":MAILTO:president@preserverockcreek.org
END:VEVENT
BEGIN:VEVENT
DTSTART;TZID=America/New_York:20210712T190000
DTEND;TZID=America/New_York:20210712T210000
DTSTAMP:20260419T234751
CREATED:20201228T221250Z
LAST-MODIFIED:20210709T021356Z
UID:2589-1626116400-1626123600@preserverockcreek.org
SUMMARY:2021 July Covenants Committee Meeting
DESCRIPTION:Meeting to be held virtually via Zoom meeting application \nCheck your email for meeting information or contact PMP directly providing your home address and last name to validate HOA membership in order to receive credentials
URL:https://preserverockcreek.org/event/2021-july-covenants-committee-meeting/
LOCATION:Virtual Meeting Conference Center\, Zoom virutal conference center\, Derwood\, MD\, 20855\, United States
CATEGORIES:Meetings
END:VEVENT
BEGIN:VEVENT
DTSTART;TZID=America/New_York:20210707T190000
DTEND;TZID=America/New_York:20210707T220000
DTSTAMP:20260419T234751
CREATED:20201228T221415Z
LAST-MODIFIED:20210701T174410Z
UID:2591-1625684400-1625695200@preserverockcreek.org
SUMMARY:2021 Annual HOA reconvening & July Board Meeting
DESCRIPTION:PRCHOAMeetingAgendaJuly2021v1d
URL:https://preserverockcreek.org/event/2021-july-board-meeting/
LOCATION:Virtual Meeting Conference Center\, Zoom virutal conference center\, Derwood\, MD\, 20855\, United States
CATEGORIES:Meetings
ORGANIZER;CN="Preserve HOA":MAILTO:president@preserverockcreek.org
END:VEVENT
BEGIN:VEVENT
DTSTART;TZID=America/New_York:20210609T190000
DTEND;TZID=America/New_York:20210609T215000
DTSTAMP:20260419T234751
CREATED:20210304T164348Z
LAST-MODIFIED:20210517T214024Z
UID:2621-1623265200-1623275400@preserverockcreek.org
SUMMARY:2021 Annual Homeowners Meeting - June HOA Board Meeting
DESCRIPTION:PRCHOAMeetingAgendaJune2021v1b
URL:https://preserverockcreek.org/event/annual-homeowners-meeting-2021/
LOCATION:Virtual Meeting Conference Center\, Zoom virutal conference center\, Derwood\, MD\, 20855\, United States
CATEGORIES:Meetings
ORGANIZER;CN="Preserve HOA":MAILTO:president@preserverockcreek.org
END:VEVENT
BEGIN:VEVENT
DTSTART;TZID=America/New_York:20210607T190000
DTEND;TZID=America/New_York:20210607T210000
DTSTAMP:20260419T234751
CREATED:20201228T221145Z
LAST-MODIFIED:20201228T221145Z
UID:2587-1623092400-1623099600@preserverockcreek.org
SUMMARY:2021 June Covenants Committee Meeting
DESCRIPTION:Meeting to be held virtually via Zoom meeting application \nCheck your email for meeting information or contact PMP directly providing your home address and last name to validate HOA membership in order to receive credentials
URL:https://preserverockcreek.org/event/2021-june-covenants-committee-meeting/
LOCATION:Virtual Meeting Conference Center\, Zoom virutal conference center\, Derwood\, MD\, 20855\, United States
CATEGORIES:Meetings
END:VEVENT
BEGIN:VEVENT
DTSTART;TZID=America/New_York:20210505T190000
DTEND;TZID=America/New_York:20210505T210000
DTSTAMP:20260419T234751
CREATED:20201228T220900Z
LAST-MODIFIED:20210430T223400Z
UID:2583-1620241200-1620248400@preserverockcreek.org
SUMMARY:2021 May Board Meeting
DESCRIPTION:PRCHOAMeetingAgendaMay2021v1e
URL:https://preserverockcreek.org/event/2021-may-board-meeting/
LOCATION:Virtual Meeting Conference Center\, Zoom virutal conference center\, Derwood\, MD\, 20855\, United States
CATEGORIES:Meetings
END:VEVENT
BEGIN:VEVENT
DTSTART;TZID=America/New_York:20210503T190000
DTEND;TZID=America/New_York:20210503T210000
DTSTAMP:20260419T234751
CREATED:20201228T221033Z
LAST-MODIFIED:20201228T221033Z
UID:2585-1620068400-1620075600@preserverockcreek.org
SUMMARY:2021 May Covenants Committee Meeting
DESCRIPTION:Meeting to be held virtually via Zoom meeting application \nCheck your email for meeting information or contact PMP directly providing your home address and last name to validate HOA membership in order to receive credentials
URL:https://preserverockcreek.org/event/2021-may-covenants-committee-meeting/
LOCATION:Virtual Meeting Conference Center\, Zoom virutal conference center\, Derwood\, MD\, 20855\, United States
CATEGORIES:Meetings
ORGANIZER;CN="Preserve HOA":MAILTO:president@preserverockcreek.org
END:VEVENT
END:VCALENDAR