BEGIN:VCALENDAR
VERSION:2.0
PRODID:-//Preserve at Rock Creek - ECPv6.15.20//NONSGML v1.0//EN
CALSCALE:GREGORIAN
METHOD:PUBLISH
X-ORIGINAL-URL:https://preserverockcreek.org
X-WR-CALDESC:Events for Preserve at Rock Creek
REFRESH-INTERVAL;VALUE=DURATION:PT1H
X-Robots-Tag:noindex
X-PUBLISHED-TTL:PT1H
BEGIN:VTIMEZONE
TZID:America/New_York
BEGIN:DAYLIGHT
TZOFFSETFROM:-0500
TZOFFSETTO:-0400
TZNAME:EDT
DTSTART:20190310T070000
END:DAYLIGHT
BEGIN:STANDARD
TZOFFSETFROM:-0400
TZOFFSETTO:-0500
TZNAME:EST
DTSTART:20191103T060000
END:STANDARD
BEGIN:DAYLIGHT
TZOFFSETFROM:-0500
TZOFFSETTO:-0400
TZNAME:EDT
DTSTART:20200308T070000
END:DAYLIGHT
BEGIN:STANDARD
TZOFFSETFROM:-0400
TZOFFSETTO:-0500
TZNAME:EST
DTSTART:20201101T060000
END:STANDARD
BEGIN:DAYLIGHT
TZOFFSETFROM:-0500
TZOFFSETTO:-0400
TZNAME:EDT
DTSTART:20210314T070000
END:DAYLIGHT
BEGIN:STANDARD
TZOFFSETFROM:-0400
TZOFFSETTO:-0500
TZNAME:EST
DTSTART:20211107T060000
END:STANDARD
BEGIN:DAYLIGHT
TZOFFSETFROM:-0500
TZOFFSETTO:-0400
TZNAME:EDT
DTSTART:20220313T070000
END:DAYLIGHT
BEGIN:STANDARD
TZOFFSETFROM:-0400
TZOFFSETTO:-0500
TZNAME:EST
DTSTART:20221106T060000
END:STANDARD
BEGIN:DAYLIGHT
TZOFFSETFROM:-0500
TZOFFSETTO:-0400
TZNAME:EDT
DTSTART:20230312T070000
END:DAYLIGHT
BEGIN:STANDARD
TZOFFSETFROM:-0400
TZOFFSETTO:-0500
TZNAME:EST
DTSTART:20231105T060000
END:STANDARD
END:VTIMEZONE
BEGIN:VEVENT
DTSTART;TZID=America/New_York:20220910T120000
DTEND;TZID=America/New_York:20220910T160000
DTSTAMP:20260420T024731
CREATED:20220902T013316Z
LAST-MODIFIED:20220902T014607Z
UID:2793-1662811200-1662825600@preserverockcreek.org
SUMMARY:Preserve Rock Creek Annual HOA Picnic
DESCRIPTION:
URL:https://preserverockcreek.org/event/preserve-rock-creek-annual-hoa-picnic/
LOCATION:Preserve Rock Creek – Community Tot Lot\, Harbinger Drive\, Rockville\, 20855\, United States
CATEGORIES:Meetings,Other Events
ORGANIZER;CN="Preserve HOA":MAILTO:president@preserverockcreek.org
END:VEVENT
BEGIN:VEVENT
DTSTART;TZID=America/New_York:20211031T173000
DTEND;TZID=America/New_York:20211031T220000
DTSTAMP:20260420T024731
CREATED:20211018T182911Z
LAST-MODIFIED:20211018T185303Z
UID:2701-1635701400-1635717600@preserverockcreek.org
SUMMARY:Halloween in the Preserve
DESCRIPTION:Halloween will be recognized on Sunday\, October 31st. \nHomeowners that are willing to participate in trick or treating\, please have your porch light on or decorations lighted.
URL:https://preserverockcreek.org/event/halloween-in-the-preserve/
LOCATION:Preserve Rock Creek – Community Tot Lot\, Harbinger Drive\, Rockville\, 20855\, United States
CATEGORIES:Meetings,Other Events
ATTACH;FMTTYPE=image/png:https://preserverockcreek.org/wp-content/uploads/2021/10/HalloweenPumpkinsTreesHouse.png
ORGANIZER;CN="Preserve HOA":MAILTO:president@preserverockcreek.org
END:VEVENT
BEGIN:VEVENT
DTSTART;TZID=America/New_York:20210925T113000
DTEND;TZID=America/New_York:20210925T160000
DTSTAMP:20260420T024731
CREATED:20210613T215149Z
LAST-MODIFIED:20210909T193536Z
UID:2656-1632569400-1632585600@preserverockcreek.org
SUMMARY:Annual Preserve at Rock Creek Community Bar-B-Que & Gathering
DESCRIPTION:21SepCommunityPicnicFlyer
URL:https://preserverockcreek.org/event/annual-preserve-at-rock-creek-community-bar-b-que-gathering/
LOCATION:Preserve Rock Creek – Community Tot Lot\, Harbinger Drive\, Rockville\, 20855\, United States
CATEGORIES:Meetings,Other Events
ORGANIZER;CN="Preserve HOA":MAILTO:president@preserverockcreek.org
END:VEVENT
BEGIN:VEVENT
DTSTART;TZID=America/New_York:20201031T150000
DTEND;TZID=America/New_York:20201031T190000
DTSTAMP:20260420T024731
CREATED:20201014T145835Z
LAST-MODIFIED:20201014T182819Z
UID:2555-1604156400-1604170800@preserverockcreek.org
SUMMARY:Pumpkin Scavenger Hunt
DESCRIPTION:20PRCHalloweenFlyer
URL:https://preserverockcreek.org/event/pumpkin-scavenger-hunt/
LOCATION:The Preserve at Rock Creek\, Heartwood Drive\, Rockville\, MD\, 20855\, United States
CATEGORIES:Other Events
ORGANIZER;CN="Preserve HOA":MAILTO:president@preserverockcreek.org
END:VEVENT
END:VCALENDAR